BEGIN:VCALENDAR
VERSION:2.0
PRODID:-//Rollins College - Crummer School of Business - ECPv6.15.17//NONSGML v1.0//EN
CALSCALE:GREGORIAN
METHOD:PUBLISH
X-ORIGINAL-URL:https://crummer.rollins.edu
X-WR-CALDESC:Events for Rollins College - Crummer School of Business
REFRESH-INTERVAL;VALUE=DURATION:PT1H
X-Robots-Tag:noindex
X-PUBLISHED-TTL:PT1H
BEGIN:VTIMEZONE
TZID:America/New_York
BEGIN:DAYLIGHT
TZOFFSETFROM:-0500
TZOFFSETTO:-0400
TZNAME:EDT
DTSTART:20250309T070000
END:DAYLIGHT
BEGIN:STANDARD
TZOFFSETFROM:-0400
TZOFFSETTO:-0500
TZNAME:EST
DTSTART:20251102T060000
END:STANDARD
BEGIN:DAYLIGHT
TZOFFSETFROM:-0500
TZOFFSETTO:-0400
TZNAME:EDT
DTSTART:20260308T070000
END:DAYLIGHT
BEGIN:STANDARD
TZOFFSETFROM:-0400
TZOFFSETTO:-0500
TZNAME:EST
DTSTART:20261101T060000
END:STANDARD
BEGIN:DAYLIGHT
TZOFFSETFROM:-0500
TZOFFSETTO:-0400
TZNAME:EDT
DTSTART:20270314T070000
END:DAYLIGHT
BEGIN:STANDARD
TZOFFSETFROM:-0400
TZOFFSETTO:-0500
TZNAME:EST
DTSTART:20271107T060000
END:STANDARD
END:VTIMEZONE
BEGIN:VEVENT
DTSTART;TZID=America/New_York:20260408T121500
DTEND;TZID=America/New_York:20260408T121500
DTSTAMP:20260424T213412
CREATED:20260312T232019Z
LAST-MODIFIED:20260407T221228Z
UID:5864-1775650500-1775650500@crummer.rollins.edu
SUMMARY:Funding Your MBA: a Joint Admission + Student Success Information Session
DESCRIPTION:Paying for an MBA involves more than understanding tuition. \nIt also means understanding how scholarship and funding decisions are evaluated. \nIn this virtual session\, members of Crummer’s Admission and Student Success teams will discuss what funding decisions are designed to reflect\, which including items like an applicant’s readiness\, program fit\, and their long-term goals. We’ll also cover scholarship opportunities of up to $30\,000 and offer guidance for how applicants can best position themselves to the reviewing committee responsible for making funding decisions. \nParticipants are encouraged to attend live for discussion and Q&A. Those who register but cannot attend in real-time will receive access to the recording afterward. \n  \nEvent Details \n→ Date: Wednesday\, April 8\, 2026 \n→ Time: 12:15 p.m. ET \n→ Location: Virtual \nRegister for this event at THIS LINK.
URL:https://crummer.rollins.edu/event/funding-your-mba-a-joint-admission-student-success-information-session/
LOCATION:Online
CATEGORIES:Prospective Students,Student Success
ATTACH;FMTTYPE=image/jpeg:https://crummer.rollins.edu/wp-content/uploads/2026/03/04016_FundingYourMBA-Event.jpg
ORGANIZER;CN="Office of Admission":MAILTO:graduate-business@rollins.edu
END:VEVENT
END:VCALENDAR