BEGIN:VCALENDAR
VERSION:2.0
PRODID:-//Rollins College - Crummer School of Business - ECPv6.15.17//NONSGML v1.0//EN
CALSCALE:GREGORIAN
METHOD:PUBLISH
X-WR-CALNAME:Rollins College - Crummer School of Business
X-ORIGINAL-URL:https://crummer.rollins.edu
X-WR-CALDESC:Events for Rollins College - Crummer School of Business
REFRESH-INTERVAL;VALUE=DURATION:PT1H
X-Robots-Tag:noindex
X-PUBLISHED-TTL:PT1H
BEGIN:VTIMEZONE
TZID:America/New_York
BEGIN:DAYLIGHT
TZOFFSETFROM:-0500
TZOFFSETTO:-0400
TZNAME:EDT
DTSTART:20250309T070000
END:DAYLIGHT
BEGIN:STANDARD
TZOFFSETFROM:-0400
TZOFFSETTO:-0500
TZNAME:EST
DTSTART:20251102T060000
END:STANDARD
BEGIN:DAYLIGHT
TZOFFSETFROM:-0500
TZOFFSETTO:-0400
TZNAME:EDT
DTSTART:20260308T070000
END:DAYLIGHT
BEGIN:STANDARD
TZOFFSETFROM:-0400
TZOFFSETTO:-0500
TZNAME:EST
DTSTART:20261101T060000
END:STANDARD
BEGIN:DAYLIGHT
TZOFFSETFROM:-0500
TZOFFSETTO:-0400
TZNAME:EDT
DTSTART:20270314T070000
END:DAYLIGHT
BEGIN:STANDARD
TZOFFSETFROM:-0400
TZOFFSETTO:-0500
TZNAME:EST
DTSTART:20271107T060000
END:STANDARD
END:VTIMEZONE
BEGIN:VEVENT
DTSTART;TZID=America/New_York:20260415T121500
DTEND;TZID=America/New_York:20260415T131500
DTSTAMP:20260419T100509
CREATED:20260407T220448Z
LAST-MODIFIED:20260417T145553Z
UID:6347-1776255300-1776258900@crummer.rollins.edu
SUMMARY:Rollins Student Exclusive | MBA Information Session + Lunch
DESCRIPTION:This session is designed for Rollins students who are curious about what’s already around them\, but haven’t explored it yet. \nJoin us for a live conversation and lunch to get a closer look at the Rollins MBA\, including the Early Advantage and Accelerated paths. You’ll step inside how the program works\, how it feels\, and how it can build on what you’ve already started since you began attending Rollins. \nThere’s no pressure\, no commitment—just lunch and a clear way to understand what’s possible before you leave campus. \nEvent Details \n→ Date: Wednesday\, April 15\, 2026 \n→ Time: 12:15 p.m. – 1 p.m. ET \n→ Location: Crummer Hall 1071000 Holt Ave.Winter Park\, FL 32789 \nRegister Below:\n\n \n \n\n \n \n \n \n\n\nLoading…\n\n\nRollins Email Address \n\n\nFirst Name \n\n\nLast Name \n\n\nWhich program are you interested in? \nI’m Not SureEntrepreneurship Graduate CertificateBusiness Analytics Graduate CertificateEarly Advantage MBAAccelerated MBA with STEM-DesignationProfessional MBAExecutive MBA\n\n\n\nWhat semester(s) are you thinking about enrolling?\nWhat semester(s) are you thinking about enrolling?\n\nDon’t Know/Not Sure\nFall 2026 (August 2026)\nSpring 2027 (January 2027)\nFall 2027 (August 2027)\nSpring 2028 (January 2028)\nFall 2028 (August 2028)\nSpring 2029 (January 2029)\nFall 2029 (August 2029)\n\n\n\n\n\n\n\n \n\nComplete Registration\n 
URL:https://crummer.rollins.edu/event/rollins-student-exclusive-mba-information-session-lunch/
CATEGORIES:Current Students,Prospective Students
ATTACH;FMTTYPE=image/jpeg:https://crummer.rollins.edu/wp-content/uploads/2026/04/04026_InfoSession-0415-Events.jpg
ORGANIZER;CN="Office of Admission":MAILTO:graduate-business@rollins.edu
END:VEVENT
END:VCALENDAR