BEGIN:VCALENDAR
VERSION:2.0
PRODID:-//Rollins College - Crummer School of Business - ECPv6.15.17//NONSGML v1.0//EN
CALSCALE:GREGORIAN
METHOD:PUBLISH
X-ORIGINAL-URL:https://crummer.rollins.edu
X-WR-CALDESC:Events for Rollins College - Crummer School of Business
REFRESH-INTERVAL;VALUE=DURATION:PT1H
X-Robots-Tag:noindex
X-PUBLISHED-TTL:PT1H
BEGIN:VTIMEZONE
TZID:America/New_York
BEGIN:DAYLIGHT
TZOFFSETFROM:-0500
TZOFFSETTO:-0400
TZNAME:EDT
DTSTART:20250309T070000
END:DAYLIGHT
BEGIN:STANDARD
TZOFFSETFROM:-0400
TZOFFSETTO:-0500
TZNAME:EST
DTSTART:20251102T060000
END:STANDARD
BEGIN:DAYLIGHT
TZOFFSETFROM:-0500
TZOFFSETTO:-0400
TZNAME:EDT
DTSTART:20260308T070000
END:DAYLIGHT
BEGIN:STANDARD
TZOFFSETFROM:-0400
TZOFFSETTO:-0500
TZNAME:EST
DTSTART:20261101T060000
END:STANDARD
BEGIN:DAYLIGHT
TZOFFSETFROM:-0500
TZOFFSETTO:-0400
TZNAME:EDT
DTSTART:20270314T070000
END:DAYLIGHT
BEGIN:STANDARD
TZOFFSETFROM:-0400
TZOFFSETTO:-0500
TZNAME:EST
DTSTART:20271107T060000
END:STANDARD
END:VTIMEZONE
BEGIN:VEVENT
DTSTART;TZID=America/New_York:20260305T121500
DTEND;TZID=America/New_York:20260305T130000
DTSTAMP:20260419T095312
CREATED:20260113T214433Z
LAST-MODIFIED:20260303T214151Z
UID:5478-1772712900-1772715600@crummer.rollins.edu
SUMMARY:Rollins Student MBA Information Session
DESCRIPTION:As a Rollins student\, you already know the culture\, academic rigor\, and learning environment that define this community.\nSo the question of whether or not to continue your studies after graduation with a Crummer MBA isn’t about place. It’s about whether it’s truly the right step for you—and when you should begin the program. \nJoin Kennedi Esteen from Admissions for a focused Student Information Session designed specifically for Rollins students. This session\, which will occur live and in-person in Crummer Hall Room 108\, will help you better understand how Crummer’s MBA pathways connect to different career goals\, what factors matter most when deciding whether to move forward now or wait\, and what the application process looks like\, step by step. \nWe’ll also cover the fast-approaching March 15 priority deadline for applications\, as well as how its passing will affect scholarship and funding considerations. And best of all: a live Q&A will follow the session.\n\nEvent Details \n→ Date: Thursday\, March 5\, 2026 \n→ Time: 12:15–1:00 p.m. \n→ Location: Crummer Hall\, Room 108 \n  \nRegister Below:\n\n\nRollins Email Address \n\n\n\nFirst Name \n\n\n\nMiddle Name \n\n\n\nLast Name \n\n\n\n\nBirthdate\nBirthdate\nJanuaryFebruaryMarchAprilMayJuneJulyAugustSeptemberOctoberNovemberDecember123456789101112131415161718192021222324252627282930312026202520242023202220212020201920182017201620152014201320122011201020092008200720062005200420032002200120001999199819971996199519941993199219911990198919881987198619851984198319821981198019791978197719761975197419731972197119701969196819671966196519641963196219611960195919581957195619551954195319521951195019491948194719461945194419431942194119401939193819371936193519341933193219311930192919281927192619251924192319221921192019191918191719161915191419131912191119101909190819071906190519041903190219011900\n\n\n\nWhich program are you interested in? \nI’m Not SureEntrepreneurship Graduate CertificateBusiness Analytics Graduate CertificateEarly Advantage MBAProfessional MBAAccelerated MBA with STEM-DesignationExecutive MBA\n\n\n\nWhat semester(s) are you thinking about enrolling?\nWhat semester(s) are you thinking about enrolling?\n\nDon’t Know/Not Sure\nFall 2026 (August 2026)\nSpring 2027 (January 2027)\nFall 2027 (August 2027)\nSpring 2028 (January 2028)\nFall 2028 (August 2028)\nSpring 2029 (January 2029)\nFall 2029 (August 2029)\n\n\n\n\n\nMailing Address\nMailing Address\n\nCountry \nAfghanistanAland IslandsAlbaniaAlgeriaAndorraAngolaAnguillaAntigua and BarbudaArgentinaArmeniaArubaAshmore and Cartier IslandsAustraliaAustriaAzerbaijanBahrainBangladeshBarbadosBassas Da IndiaBelarusBelgiumBelizeBeninBermudaBhutanBoliviaBonaire\, Sint Eustatius\, and …Bosnia and HerzegovinaBotswanaBouvet IslandBrazilBritish Indian Ocean TerritoryBritish Virgin IslandsBruneiBulgariaBurkina FasoBurundiCambodiaCameroonCanadaCape VerdeCayman IslandsCentral African RepublicChadChileChinaChristmas IslandClipperton IslandCocos Islands (Keeling Islands)ColombiaComorosCongo (Brazzaville)Congo (Kinshasa)Cook IslandsCoral Sea IslandsCosta RicaCote D’IvoireCroatiaCubaCuracaoCyprusCzech RepublicDenmarkDjiboutiDominicaDominican RepublicEcuadorEgyptEl SalvadorEquatorial GuineaEritreaEstoniaEswatiniEthiopiaEuropa IslandFalkland Islands (Islas Malvi…Faroe IslandsFederated States of MicronesiaFijiFinlandFranceFrench GuianaFrench PolynesiaFrench Southern and Antarctic…GabonGeorgiaGermanyGhanaGibraltarGlorioso IslandsGreeceGreenlandGrenadaGuadeloupeGuatemalaGuernseyGuineaGuinea-BissauGuyanaHaitiHeard Island and McDonald Isl…HondurasHong Kong S.A.R.HungaryIcelandIndiaIndonesiaIranIraqIrelandIsle of ManIsraelItalyJamaicaJan MayenJapanJerseyJordanJuan De Nova IslandKazakhstanKenyaKiribatiKosovoKuwaitKyrgyzstanLaosLatviaLebanonLesothoLiberiaLibyaLiechtensteinLithuaniaLuxembourgMacau S.A.R.MadagascarMalawiMalaysiaMaldivesMaliMaltaMarshall IslandsMartiniqueMauritaniaMauritiusMayotteMexicoMoldovaMonacoMongoliaMontenegroMontserratMoroccoMozambiqueMyanmarNamibiaNauruNepalNetherlandsNew CaledoniaNew ZealandNicaraguaNigerNigeriaNiueNorfolk IslandNorth KoreaNorth MacedoniaNorwayOmanPakistanPalau\, the Pacific Islands ofPalestinePanamaPapua New GuineaParaguayPeruPhilippinesPitcairn IslandsPolandPortugalQatarReunionRomaniaRussiaRwandaSaint BarthelemySaint HelenaSaint Kitts and NevisSaint LuciaSaint MartinSaint Pierre and MiquelonSaint Vincent and the GrenadinesSamoaSan MarinoSao Tome and PrincipeSaudi ArabiaSenegalSerbiaSeychellesSierra LeoneSingaporeSint MaartenSlovakiaSloveniaSolomon IslandsSomaliaSouth AfricaSouth Georgia and the South S…South KoreaSouth SudanSpainSpratly IslandsSri LankaSudanSurinameSvalbardSwedenSwitzerlandSyriaTaiwanTajikistanTanzaniaThailandThe BahamasThe GambiaTimor-LesteTogoTokelauTongaTrinidad and TobagoTromelin IslandTunisiaTurkeyTurkmenistanTurks and Caicos IslandsTuvaluUgandaUkraineUnited Arab EmiratesUnited KingdomUnited StatesUruguayUzbekistanVanuatuVatican CityVenezuelaVietnamWallis and Futuna IslandsWestern SaharaYemenZambiaZimbabwe\n\n\nStreet \n\n\n\nCity \n\n\n\nState \nSelect StateAlabamaAlaskaAmerican SamoaAPO/FPO (AA)APO/FPO (AE)APO/FPO (AP)ArizonaArkansasCaliforniaColoradoConnecticutDelawareDistrict of ColumbiaFederated States of MicronesiaFloridaGeorgiaGuamHawaiiIdahoIllinoisIndianaIowaKansasKentuckyLouisianaMaineMariana IslandsMarshall IslandsMarylandMassachusettsMichiganMinnesotaMississippiMissouriMontanaNebraskaNevadaNew HampshireNew JerseyNew MexicoNew YorkNorth CarolinaNorth DakotaOhioOklahomaOregonPalauPennsylvaniaPuerto RicoRhode IslandSouth CarolinaSouth DakotaTennesseeTexasUtahVermontVirgin Islands\, U.S.VirginiaWashingtonWest VirginiaWisconsinWyoming\n\n\nPostal Code \n\n\n\n\nSubmit
URL:https://crummer.rollins.edu/event/rollins-student-info-session-mba/
LOCATION:Crummer Hall at the Crummer Graduate School of Business at Rollins College\, Crummer Hall\, 1000 Holt Ave\, Room 108\, Winter Park\, FL\, 32789\, United States
CATEGORIES:Current Students,Prospective Students
ATTACH;FMTTYPE=image/jpeg:https://crummer.rollins.edu/wp-content/uploads/2026/01/04012_Info-Session-MBA-Event.jpg
ORGANIZER;CN="Office of Admission":MAILTO:graduate-business@rollins.edu
END:VEVENT
END:VCALENDAR